BEGIN:VCALENDAR
VERSION:2.0
PRODID:https://www.volpak.com
X-PUBLISHED-TTL:P1W
BEGIN:VEVENT
UID:69ea880f9ed37
DTSTART;VALUE=DATE:20220321
SEQUENCE:0
TRANSP:OPAQUE
DTEND;VALUE=DATE:20220324
URL:https://www.volpak.com/en/exhibitions/pack-expo-east-2022
LOCATION:Philadelphia\, PA USA
SUMMARY:Pack Expo East 2022
CLASS:PUBLIC
X-ALT-DESC;FMTTYPE=text/html:<p><span style=\"font-size:12pt\"><span style=
 \"font-family:Calibri\,sans-serif\"><a href=\"https://www.packexpoeast.com
 /\" target=\"_blank\">Pack Expo East</a> is the #1 packaging and processin
 g event for East Coast consumer packaged goods (CPG) companies to be held 
 from march 21 to 23\, 2021 in Philadelphia.</span></span></p>\n\n<p><span 
 style=\"font-size:12pt\"><span style=\"font-family:Calibri\,sans-serif\">V
 olpak will be present at the Exhibition Hall in the booth #920 with its ho
 rizontal form-fill-seal (HFFS) machines for flexible packaging.</span></sp
 an></p>\n\n<p><span style=\"font-size:12pt\"><span style=\"font-family:Cal
 ibri\,sans-serif\">Visit us!</span></span></p>\n\, coesia_editor_manager
X-MICROSOFT-CDO-ALLDAYEVENT:TRUE
DTSTAMP:20260423T225855Z
END:VEVENT
END:VCALENDAR