BEGIN:VCALENDAR
VERSION:2.0
PRODID:https://www.volpak.com
X-PUBLISHED-TTL:P1W
BEGIN:VEVENT
UID:69e86cd9871dc
DTSTART;VALUE=DATE:20210928
SEQUENCE:0
TRANSP:OPAQUE
DTEND;VALUE=DATE:20211001
URL:https://www.volpak.com/en/exhibitions/fachpack-2021
SUMMARY:Fachpack 2021
CLASS:PUBLIC
X-ALT-DESC;FMTTYPE=text/html:<p>Volpak\, together with its agent Agrama\, w
 ill be exhibiting at the Fachpack 2021 in Nuremberg.</p>\n\n<p>This year t
 he trade show will be focusing on sustainability\, circular economy\, and 
 environmentally friendly packaging solutions.</p>\n\n<p>Visit us in hall 3
 C\, stand 347 and ask about the sustainable solutions we can provide you.<
 /p>\n\, coesia_editor_manager
X-MICROSOFT-CDO-ALLDAYEVENT:TRUE
DTSTAMP:20260422T083817Z
END:VEVENT
END:VCALENDAR