BEGIN:VCALENDAR
VERSION:2.0
PRODID:https://www.volpak.com
X-PUBLISHED-TTL:P1W
BEGIN:VEVENT
UID:69e86dfe3556e
DTSTART;VALUE=DATE:20231127
SEQUENCE:0
TRANSP:OPAQUE
DTEND;VALUE=DATE:20231201
URL:https://www.volpak.com/en/exhibitions/andinapack-2023
LOCATION:Bogotá
SUMMARY:AndinaPack 2023
CLASS:PUBLIC
X-ALT-DESC;FMTTYPE=text/html:<p>Volpak will be exhibiting at <a href=\"http
 s://andinapack.com/\" target=\"_blank\">AndinaPack</a>\, Bogotá.</p>\n\n<
 p>More information will follow soon!</p>\n\, coesia_editor_manager
X-MICROSOFT-CDO-ALLDAYEVENT:TRUE
DTSTAMP:20260422T084310Z
END:VEVENT
END:VCALENDAR