BEGIN:VCALENDAR
VERSION:2.0
PRODID:https://www.volpak.com
X-PUBLISHED-TTL:P1W
BEGIN:VEVENT
UID:69e543b5326c2
DTSTART;VALUE=DATE:20230926
SEQUENCE:0
TRANSP:OPAQUE
DTEND;VALUE=DATE:20230929
URL:https://www.volpak.com/en/exhibitions/ppma-show-2023
LOCATION:Birmingham
SUMMARY:PPMA Show 2023
CLASS:PUBLIC
X-ALT-DESC;FMTTYPE=text/html:<p>The UK's largest event for processing equip
 ment\, packaging machinery\, industrial robots\, and machine vision system
 s.</p>\n\n<p>Volpak will be exhibiting at <a href=\"https://www.ppmashow.c
 o.uk/\" target=\"_blank\">PPMA</a>\, more information will follow soon!</p
 >\n\, coesia_editor_manager
X-MICROSOFT-CDO-ALLDAYEVENT:TRUE
DTSTAMP:20260419T230557Z
END:VEVENT
END:VCALENDAR